BEGIN:VCALENDAR
VERSION:2.0
PRODID:-//wp-events-plugin.com//6.6.4.4//EN
BEGIN:VEVENT
UID:4613@oxfordgatehouse.org
DTSTART:20260422T120000Z
DTEND:20260422T160000Z
DTSTAMP:20250806T102820Z
URL:https://oxfordgatehouse.org/events/counselling-service-5-2026-04-22/
SUMMARY:Counselling Service
DESCRIPTION:This is not a drop in provision. A referral and pre-planned mee
 tings need to be arranged. Please drop into the community centre for more 
 information.
END:VEVENT
END:VCALENDAR