BEGIN:VCALENDAR
VERSION:2.0
PRODID:-//wp-events-plugin.com//6.6.4.4//EN
BEGIN:VEVENT
UID:4119@oxfordgatehouse.org
DTSTART:20260424T170000Z
DTEND:20260424T190000Z
DTSTAMP:20250806T101154Z
URL:https://oxfordgatehouse.org/events/games-night-2026-04-24/
SUMMARY:Games Night
DESCRIPTION:Come and have some fun on our games night!  A selection of boa
 rd and card games to choose from to cater for all tastes.
END:VEVENT
END:VCALENDAR