BEGIN:VCALENDAR
VERSION:2.0
PRODID:-//wp-events-plugin.com//6.6.4.4//EN
BEGIN:VEVENT
UID:4926@oxfordgatehouse.org
DTSTART:20260422T100000Z
DTEND:20260422T130000Z
DTSTAMP:20250806T105140Z
URL:https://oxfordgatehouse.org/events/lived-experience-advisory-forum-11-
 2026-04-22/
SUMMARY:Lived Experience Advisory Forum
DESCRIPTION:If you want to contribute and use your experience of homelessne
 ss with like-minded people and to influence change within the homeless pat
 hways in Oxfordshire\, then come and join our Forum at the New Road Baptis
 t Church in Bonn Square. Contact Monica on monica@oxfordgatehouse.org for 
 an up to date calendar schedule. Please note sessions may change to suppor
 t the development of the forum or any ongoing work.
END:VEVENT
END:VCALENDAR