BEGIN:VCALENDAR
VERSION:2.0
PRODID:-//wp-events-plugin.com//6.6.4.4//EN
BEGIN:VEVENT
UID:4428@oxfordgatehouse.org
DTSTART:20260422T153000Z
DTEND:20260422T190000Z
DTSTAMP:20250806T102117Z
URL:https://oxfordgatehouse.org/events/shower-service-22-2026-04-22/
SUMMARY:Shower Service
DESCRIPTION:Guests can book a 30 minute shower session via a project worker
  in the community centre. 5 slots available.
END:VEVENT
END:VCALENDAR